BEGIN:VCALENDAR
VERSION:2.0
PRODID:-//Regenbogenchor-Kohlscheid - ECPv6.15.20//NONSGML v1.0//EN
CALSCALE:GREGORIAN
METHOD:PUBLISH
X-ORIGINAL-URL:https://regenbogenchor-kohlscheid.de
X-WR-CALDESC:Veranstaltungen für Regenbogenchor-Kohlscheid
REFRESH-INTERVAL;VALUE=DURATION:PT1H
X-Robots-Tag:noindex
X-PUBLISHED-TTL:PT1H
BEGIN:VTIMEZONE
TZID:Europe/Berlin
BEGIN:DAYLIGHT
TZOFFSETFROM:+0100
TZOFFSETTO:+0200
TZNAME:CEST
DTSTART:20230326T010000
END:DAYLIGHT
BEGIN:STANDARD
TZOFFSETFROM:+0200
TZOFFSETTO:+0100
TZNAME:CET
DTSTART:20231029T010000
END:STANDARD
BEGIN:DAYLIGHT
TZOFFSETFROM:+0100
TZOFFSETTO:+0200
TZNAME:CEST
DTSTART:20240331T010000
END:DAYLIGHT
BEGIN:STANDARD
TZOFFSETFROM:+0200
TZOFFSETTO:+0100
TZNAME:CET
DTSTART:20241027T010000
END:STANDARD
BEGIN:DAYLIGHT
TZOFFSETFROM:+0100
TZOFFSETTO:+0200
TZNAME:CEST
DTSTART:20250330T010000
END:DAYLIGHT
BEGIN:STANDARD
TZOFFSETFROM:+0200
TZOFFSETTO:+0100
TZNAME:CET
DTSTART:20251026T010000
END:STANDARD
END:VTIMEZONE
BEGIN:VEVENT
DTSTART;TZID=Europe/Berlin:20240108T193000
DTEND;TZID=Europe/Berlin:20240108T220000
DTSTAMP:20260425T202739
CREATED:20231212T110408Z
LAST-MODIFIED:20240108T135756Z
UID:219-1704742200-1704751200@regenbogenchor-kohlscheid.de
SUMMARY:Erste Probe im neuen Jahr mit "Buffet und mehr"
DESCRIPTION:Buffet im Lukas Gemeindezentrum. \nEs wäre schön\, wenn jede/jeder von euch ein wenig zum Buffet mit Essen und/oder Trinken beisteuern würde
URL:https://regenbogenchor-kohlscheid.de/termine/chorprobe-2/
LOCATION:Lukas Gemeindezentrum\, Lutherstraße 10\, 52134 Herzogenrath\, NRW\, 52134\, Deutschland
END:VEVENT
END:VCALENDAR