BEGIN:VCALENDAR
VERSION:2.0
PRODID:-//Regenbogenchor-Kohlscheid - ECPv6.15.20//NONSGML v1.0//EN
CALSCALE:GREGORIAN
METHOD:PUBLISH
X-WR-CALNAME:Regenbogenchor-Kohlscheid
X-ORIGINAL-URL:https://regenbogenchor-kohlscheid.de
X-WR-CALDESC:Veranstaltungen für Regenbogenchor-Kohlscheid
REFRESH-INTERVAL;VALUE=DURATION:PT1H
X-Robots-Tag:noindex
X-PUBLISHED-TTL:PT1H
BEGIN:VTIMEZONE
TZID:Europe/Berlin
BEGIN:DAYLIGHT
TZOFFSETFROM:+0100
TZOFFSETTO:+0200
TZNAME:CEST
DTSTART:20230326T010000
END:DAYLIGHT
BEGIN:STANDARD
TZOFFSETFROM:+0200
TZOFFSETTO:+0100
TZNAME:CET
DTSTART:20231029T010000
END:STANDARD
BEGIN:DAYLIGHT
TZOFFSETFROM:+0100
TZOFFSETTO:+0200
TZNAME:CEST
DTSTART:20240331T010000
END:DAYLIGHT
BEGIN:STANDARD
TZOFFSETFROM:+0200
TZOFFSETTO:+0100
TZNAME:CET
DTSTART:20241027T010000
END:STANDARD
BEGIN:DAYLIGHT
TZOFFSETFROM:+0100
TZOFFSETTO:+0200
TZNAME:CEST
DTSTART:20250330T010000
END:DAYLIGHT
BEGIN:STANDARD
TZOFFSETFROM:+0200
TZOFFSETTO:+0100
TZNAME:CET
DTSTART:20251026T010000
END:STANDARD
END:VTIMEZONE
BEGIN:VEVENT
DTSTART;VALUE=DATE:20240708
DTEND;VALUE=DATE:20240813
DTSTAMP:20260423T085329
CREATED:20240105T112855Z
LAST-MODIFIED:20240201T151738Z
UID:352-1720396800-1723507199@regenbogenchor-kohlscheid.de
SUMMARY:Ferien
DESCRIPTION:Ferien vom 8.7. – 12.8.24\, 1. Chorprobe wieder am 19.8.24
URL:https://regenbogenchor-kohlscheid.de/termine/ferien/
END:VEVENT
BEGIN:VEVENT
DTSTART;TZID=Europe/Berlin:20240819T193000
DTEND;TZID=Europe/Berlin:20240819T213000
DTSTAMP:20260423T085329
CREATED:20240105T113141Z
LAST-MODIFIED:20240105T113141Z
UID:354-1724095800-1724103000@regenbogenchor-kohlscheid.de
SUMMARY:Erste Probe nach den Sommerferien
DESCRIPTION:Erste Probe nach den Sommerferien
URL:https://regenbogenchor-kohlscheid.de/termine/erste-probe-nach-den-sommerferien/
LOCATION:Lukas Gemeindezentrum\, Lutherstraße 10\, 52134 Herzogenrath\, NRW\, 52134\, Deutschland
END:VEVENT
END:VCALENDAR