BEGIN:VCALENDAR
VERSION:2.0
PRODID:-//Regenbogenchor-Kohlscheid - ECPv6.15.20//NONSGML v1.0//EN
CALSCALE:GREGORIAN
METHOD:PUBLISH
X-WR-CALNAME:Regenbogenchor-Kohlscheid
X-ORIGINAL-URL:https://regenbogenchor-kohlscheid.de
X-WR-CALDESC:Veranstaltungen für Regenbogenchor-Kohlscheid
REFRESH-INTERVAL;VALUE=DURATION:PT1H
X-Robots-Tag:noindex
X-PUBLISHED-TTL:PT1H
BEGIN:VTIMEZONE
TZID:Europe/Berlin
BEGIN:DAYLIGHT
TZOFFSETFROM:+0100
TZOFFSETTO:+0200
TZNAME:CEST
DTSTART:20230326T010000
END:DAYLIGHT
BEGIN:STANDARD
TZOFFSETFROM:+0200
TZOFFSETTO:+0100
TZNAME:CET
DTSTART:20231029T010000
END:STANDARD
BEGIN:DAYLIGHT
TZOFFSETFROM:+0100
TZOFFSETTO:+0200
TZNAME:CEST
DTSTART:20240331T010000
END:DAYLIGHT
BEGIN:STANDARD
TZOFFSETFROM:+0200
TZOFFSETTO:+0100
TZNAME:CET
DTSTART:20241027T010000
END:STANDARD
BEGIN:DAYLIGHT
TZOFFSETFROM:+0100
TZOFFSETTO:+0200
TZNAME:CEST
DTSTART:20250330T010000
END:DAYLIGHT
BEGIN:STANDARD
TZOFFSETFROM:+0200
TZOFFSETTO:+0100
TZNAME:CET
DTSTART:20251026T010000
END:STANDARD
END:VTIMEZONE
BEGIN:VEVENT
DTSTART;TZID=Europe/Berlin:20240915T100000
DTEND;TZID=Europe/Berlin:20240915T230000
DTSTAMP:20260423T072202
CREATED:20240105T113718Z
LAST-MODIFIED:20240109T124252Z
UID:356-1726394400-1726441200@regenbogenchor-kohlscheid.de
SUMMARY:Ökumenischer Gottesdienst der Chöre
DESCRIPTION:St. Katharina Kohlscheid am Markt\, ökumenischer Gottesdienst der Chöre (Pannesheide\, St. Katharina\, Regenbogenchor) anlässlich der 500 Jahrfeier Kohlscheids\, Stadtteilfest
URL:https://regenbogenchor-kohlscheid.de/termine/katharina-kohlscheid-am-markt-oekumenischer-gottesdienst-der-choere/
LOCATION:St. Katharina Kohlscheid am Markt\, Markt 5\, 5213\, NRW\, 52134\, Deutschland
END:VEVENT
BEGIN:VEVENT
DTSTART;TZID=Europe/Berlin:20240920T180000
DTEND;TZID=Europe/Berlin:20240920T230000
DTSTAMP:20260423T072202
CREATED:20240105T114135Z
LAST-MODIFIED:20240105T114135Z
UID:360-1726855200-1726873200@regenbogenchor-kohlscheid.de
SUMMARY:Dankeschönfeier für alle ehrenamtlich Tätigen in der Gemeinde
DESCRIPTION:Markuskirche\,  Dankeschönfeier für alle ehrenamtlich Tätigen in der Gemeinde ( keine Chorbeteiligung!\, nur Einladung)
URL:https://regenbogenchor-kohlscheid.de/termine/dankeschoenfeier-fuer-alle-ehrenamtlich-taetigen-in-der-gemeinde/
LOCATION:Markuskirche\, Geilenkirchener Str. 41\, 52134 Herzogenrath\, 52134\, Deutschland
END:VEVENT
END:VCALENDAR