BEGIN:VCALENDAR
VERSION:2.0
PRODID:-//Regenbogenchor-Kohlscheid - ECPv6.15.20//NONSGML v1.0//EN
CALSCALE:GREGORIAN
METHOD:PUBLISH
X-ORIGINAL-URL:https://regenbogenchor-kohlscheid.de
X-WR-CALDESC:Veranstaltungen für Regenbogenchor-Kohlscheid
REFRESH-INTERVAL;VALUE=DURATION:PT1H
X-Robots-Tag:noindex
X-PUBLISHED-TTL:PT1H
BEGIN:VTIMEZONE
TZID:Europe/Berlin
BEGIN:DAYLIGHT
TZOFFSETFROM:+0100
TZOFFSETTO:+0200
TZNAME:CEST
DTSTART:20230326T010000
END:DAYLIGHT
BEGIN:STANDARD
TZOFFSETFROM:+0200
TZOFFSETTO:+0100
TZNAME:CET
DTSTART:20231029T010000
END:STANDARD
BEGIN:DAYLIGHT
TZOFFSETFROM:+0100
TZOFFSETTO:+0200
TZNAME:CEST
DTSTART:20240331T010000
END:DAYLIGHT
BEGIN:STANDARD
TZOFFSETFROM:+0200
TZOFFSETTO:+0100
TZNAME:CET
DTSTART:20241027T010000
END:STANDARD
BEGIN:DAYLIGHT
TZOFFSETFROM:+0100
TZOFFSETTO:+0200
TZNAME:CEST
DTSTART:20250330T010000
END:DAYLIGHT
BEGIN:STANDARD
TZOFFSETFROM:+0200
TZOFFSETTO:+0100
TZNAME:CET
DTSTART:20251026T010000
END:STANDARD
END:VTIMEZONE
BEGIN:VEVENT
DTSTART;TZID=Europe/Berlin:20241209T200000
DTEND;TZID=Europe/Berlin:20241209T213000
DTSTAMP:20260423T021510
CREATED:20240105T114749Z
LAST-MODIFIED:20240105T114749Z
UID:368-1733774400-1733779800@regenbogenchor-kohlscheid.de
SUMMARY:Nikolaus
DESCRIPTION:Vielleicht kommt wieder der Nikolaus ???
URL:https://regenbogenchor-kohlscheid.de/termine/nikolaus/
LOCATION:Lukas Gemeindezentrum\, Lutherstraße 10\, 52134 Herzogenrath\, NRW\, 52134\, Deutschland
END:VEVENT
BEGIN:VEVENT
DTSTART;TZID=Europe/Berlin:20241222T110000
DTEND;TZID=Europe/Berlin:20241222T120000
DTSTAMP:20260423T021510
CREATED:20241023T111556Z
LAST-MODIFIED:20241023T111556Z
UID:826-1734865200-1734868800@regenbogenchor-kohlscheid.de
SUMMARY:4. ADVENT
DESCRIPTION:4. ADVENT\, 22.12.24\, 11:00 Uhr\, Lukas Gemeindezentrum
URL:https://regenbogenchor-kohlscheid.de/termine/4-advent/
LOCATION:Lukas Gemeindezentrum\, Lutherstraße 10\, 52134 Herzogenrath\, NRW\, 52134\, Deutschland
END:VEVENT
BEGIN:VEVENT
DTSTART;TZID=Europe/Berlin:20241222T110000
DTEND;TZID=Europe/Berlin:20241222T130000
DTSTAMP:20260423T021510
CREATED:20240105T114908Z
LAST-MODIFIED:20240105T114908Z
UID:370-1734865200-1734872400@regenbogenchor-kohlscheid.de
SUMMARY:Singen von weihnachtlichen Liedern im Gottesdienst
DESCRIPTION:
URL:https://regenbogenchor-kohlscheid.de/termine/singen-von-weihnachtlichen-liedern-im-gottesdienst/
LOCATION:Lukas Gemeindezentrum\, Lutherstraße 10\, 52134 Herzogenrath\, NRW\, 52134\, Deutschland
END:VEVENT
BEGIN:VEVENT
DTSTART;TZID=Europe/Berlin:20241223T150000
DTEND;TZID=Europe/Berlin:20241223T160000
DTSTAMP:20260423T021510
CREATED:20240105T115121Z
LAST-MODIFIED:20240105T115229Z
UID:372-1734966000-1734969600@regenbogenchor-kohlscheid.de
SUMMARY:Probe für das Ensemble-Regenbogenchor
DESCRIPTION:Markuskirche\, Probe für das Ensemble-Regenbogenchor eventuell wieder mit den Instrumentalisten und Aushilfen (ich würde mich sehr darüber freuen)\, Probe ausschließlich für Mitwirkende der Vesper am heiligen Abend in der Markuskirche
URL:https://regenbogenchor-kohlscheid.de/termine/probe-fuer-das-ensemble-regenbogenchor/
LOCATION:Markuskirche\, Geilenkirchener Str. 41\, 52134 Herzogenrath\, 52134\, Deutschland
END:VEVENT
BEGIN:VEVENT
DTSTART;TZID=Europe/Berlin:20241224T180000
DTEND;TZID=Europe/Berlin:20241224T200000
DTSTAMP:20260423T021510
CREATED:20240105T115355Z
LAST-MODIFIED:20240105T115355Z
UID:374-1735063200-1735070400@regenbogenchor-kohlscheid.de
SUMMARY:Vesper am heiligen Abend
DESCRIPTION:Markuskirche\, Vesper am heiligen Abend\, Ensemble-Regenbogenchor und Familienmitglieder
URL:https://regenbogenchor-kohlscheid.de/termine/vesper-am-heiligen-abend/
LOCATION:Markuskirche\, Geilenkirchener Str. 41\, 52134 Herzogenrath\, 52134\, Deutschland
END:VEVENT
END:VCALENDAR