BEGIN:VCALENDAR
VERSION:2.0
PRODID:-//Regenbogenchor-Kohlscheid - ECPv6.15.20//NONSGML v1.0//EN
CALSCALE:GREGORIAN
METHOD:PUBLISH
X-WR-CALNAME:Regenbogenchor-Kohlscheid
X-ORIGINAL-URL:https://regenbogenchor-kohlscheid.de
X-WR-CALDESC:Veranstaltungen für Regenbogenchor-Kohlscheid
REFRESH-INTERVAL;VALUE=DURATION:PT1H
X-Robots-Tag:noindex
X-PUBLISHED-TTL:PT1H
BEGIN:VTIMEZONE
TZID:Europe/Berlin
BEGIN:DAYLIGHT
TZOFFSETFROM:+0100
TZOFFSETTO:+0200
TZNAME:CEST
DTSTART:20240331T010000
END:DAYLIGHT
BEGIN:STANDARD
TZOFFSETFROM:+0200
TZOFFSETTO:+0100
TZNAME:CET
DTSTART:20241027T010000
END:STANDARD
BEGIN:DAYLIGHT
TZOFFSETFROM:+0100
TZOFFSETTO:+0200
TZNAME:CEST
DTSTART:20250330T010000
END:DAYLIGHT
BEGIN:STANDARD
TZOFFSETFROM:+0200
TZOFFSETTO:+0100
TZNAME:CET
DTSTART:20251026T010000
END:STANDARD
BEGIN:DAYLIGHT
TZOFFSETFROM:+0100
TZOFFSETTO:+0200
TZNAME:CEST
DTSTART:20260329T010000
END:DAYLIGHT
BEGIN:STANDARD
TZOFFSETFROM:+0200
TZOFFSETTO:+0100
TZNAME:CET
DTSTART:20261025T010000
END:STANDARD
END:VTIMEZONE
BEGIN:VEVENT
DTSTART;TZID=Europe/Berlin:20250510T150000
DTEND;TZID=Europe/Berlin:20250510T180000
DTSTAMP:20260422T181333
CREATED:20250101T135114Z
LAST-MODIFIED:20250101T135235Z
UID:837-1746889200-1746900000@regenbogenchor-kohlscheid.de
SUMMARY:Konfirmation
DESCRIPTION:Samstag\, 10.5.25\, 15:00h\, Pfr. Leberecht\, Lukas Gemeindezentrum \n* The Lord bless you and keep you\, John Rutter\, bekannt aus 2015 \n* Praise his Holy Name\, Keith Hampton\, bekannt \n* Clap your hands and sing halleluja\, Don Besig\, bekannt \n* Wunschstück ???\n( * eventuell: Day by day\, Martin How\, vom Gründonnerstag )
URL:https://regenbogenchor-kohlscheid.de/termine/konfirmation/
LOCATION:Lukas Gemeindezentrum\, Lutherstraße 10\, 52134 Herzogenrath\, NRW\, 52134\, Deutschland
END:VEVENT
BEGIN:VEVENT
DTSTART;TZID=Europe/Berlin:20250511T100000
DTEND;TZID=Europe/Berlin:20250511T120000
DTSTAMP:20260422T181333
CREATED:20250101T135429Z
LAST-MODIFIED:20250101T135429Z
UID:841-1746957600-1746964800@regenbogenchor-kohlscheid.de
SUMMARY:Konfirmation
DESCRIPTION:Sonntag\, 11.5.25\, 10:00h\, Pfr. Ungerathen\, Lukas Gemeindezentrum \n* The Lord bless you and keep you\, John Rutter\, bekannt aus 2015 \n* Praise his Holy Name\, Keith Hampton\, bekannt \n* Clap your hands and sing halleluja\, Don Besig\, bekannt
URL:https://regenbogenchor-kohlscheid.de/termine/konfirmation-2/
LOCATION:Lukas Gemeindezentrum\, Lutherstraße 10\, 52134 Herzogenrath\, NRW\, 52134\, Deutschland
END:VEVENT
BEGIN:VEVENT
DTSTART;TZID=Europe/Berlin:20250524T140000
DTEND;TZID=Europe/Berlin:20250524T170000
DTSTAMP:20260422T181333
CREATED:20250101T135639Z
LAST-MODIFIED:20250102T153318Z
UID:843-1748095200-1748106000@regenbogenchor-kohlscheid.de
SUMMARY:Chorausflug
DESCRIPTION:Chorausflug: Führung/ Besichtigung von Haus Heydn in Pannesheide ; gut einstündige Wanderung um die angrenzenden Höfe (NL); Einkehr in “ La Stazione „\, Pizzaria am Bahnhof Herzogenrath \n* folgende Termine sind bei der Besitzerin angefragt; Zeitpunkt vermutlich ab 14:00h; sollten wir Auswahlmöglichkeiten erhalten\, werden wir per Liste die Termine abfragen: \n Terminauswahl:  Sa. 24.5.25/     Sa. 28.6.25/     Sa. 12.7.25   …….   ab 14:00h
URL:https://regenbogenchor-kohlscheid.de/termine/chorausflug/
END:VEVENT
END:VCALENDAR