BEGIN:VCALENDAR
VERSION:2.0
PRODID:-//Regenbogenchor-Kohlscheid - ECPv6.15.20//NONSGML v1.0//EN
CALSCALE:GREGORIAN
METHOD:PUBLISH
X-WR-CALNAME:Regenbogenchor-Kohlscheid
X-ORIGINAL-URL:https://regenbogenchor-kohlscheid.de
X-WR-CALDESC:Veranstaltungen für Regenbogenchor-Kohlscheid
REFRESH-INTERVAL;VALUE=DURATION:PT1H
X-Robots-Tag:noindex
X-PUBLISHED-TTL:PT1H
BEGIN:VTIMEZONE
TZID:Europe/Berlin
BEGIN:DAYLIGHT
TZOFFSETFROM:+0100
TZOFFSETTO:+0200
TZNAME:CEST
DTSTART:20240331T010000
END:DAYLIGHT
BEGIN:STANDARD
TZOFFSETFROM:+0200
TZOFFSETTO:+0100
TZNAME:CET
DTSTART:20241027T010000
END:STANDARD
BEGIN:DAYLIGHT
TZOFFSETFROM:+0100
TZOFFSETTO:+0200
TZNAME:CEST
DTSTART:20250330T010000
END:DAYLIGHT
BEGIN:STANDARD
TZOFFSETFROM:+0200
TZOFFSETTO:+0100
TZNAME:CET
DTSTART:20251026T010000
END:STANDARD
BEGIN:DAYLIGHT
TZOFFSETFROM:+0100
TZOFFSETTO:+0200
TZNAME:CEST
DTSTART:20260329T010000
END:DAYLIGHT
BEGIN:STANDARD
TZOFFSETFROM:+0200
TZOFFSETTO:+0100
TZNAME:CET
DTSTART:20261025T010000
END:STANDARD
END:VTIMEZONE
BEGIN:VEVENT
DTSTART;TZID=Europe/Berlin:20250804T190000
DTEND;TZID=Europe/Berlin:20250804T210000
DTSTAMP:20260422T133935
CREATED:20250101T135931Z
LAST-MODIFIED:20250102T153215Z
UID:847-1754334000-1754341200@regenbogenchor-kohlscheid.de
SUMMARY:Proben für die Hochzeit im August
DESCRIPTION:* Das Beste\, Silbermond\, Chorsatz (Wunsch der Braut)\, NEU \n* Clap your hands\, Don Besig\, bekannt \n* Praise his Holy Name\, Keith Hampton\, bekannt \n* This little light of mine\, Lorenz Maierhofer\, bekannt
URL:https://regenbogenchor-kohlscheid.de/termine/proben-fuer-die-hochzeit-dahm-im-august/
LOCATION:Lukas Gemeindezentrum\, Lutherstraße 10\, 52134 Herzogenrath\, NRW\, 52134\, Deutschland
END:VEVENT
BEGIN:VEVENT
DTSTART;TZID=Europe/Berlin:20250804T200000
DTEND;TZID=Europe/Berlin:20250804T220000
DTSTAMP:20260422T133935
CREATED:20250101T135753Z
LAST-MODIFIED:20250801T135145Z
UID:845-1754337600-1754344800@regenbogenchor-kohlscheid.de
SUMMARY:Letzte Probe vor den Sommerferien
DESCRIPTION:
URL:https://regenbogenchor-kohlscheid.de/termine/letzte-probe-vor-den-sommerferien/
LOCATION:Lukas Gemeindezentrum\, Lutherstraße 10\, 52134 Herzogenrath\, NRW\, 52134\, Deutschland
END:VEVENT
BEGIN:VEVENT
DTSTART;TZID=Europe/Berlin:20250808T180000
DTEND;TZID=Europe/Berlin:20250808T190000
DTSTAMP:20260422T133935
CREATED:20250101T140044Z
LAST-MODIFIED:20250102T153146Z
UID:849-1754676000-1754679600@regenbogenchor-kohlscheid.de
SUMMARY:Proben für die Hochzeit im August
DESCRIPTION:* Das Beste\, Silbermond\, Chorsatz (Wunsch der Braut)\, NEU \n* Clap your hands\, Don Besig\, bekannt \n* Praise his Holy Name\, Keith Hampton\, bekannt \n * This little light of mine\, Lorenz Maierhofer\, bekannt
URL:https://regenbogenchor-kohlscheid.de/termine/proben-fuer-die-hochzeit-dahm-im-august-2/
LOCATION:Lukas Gemeindezentrum\, Lutherstraße 10\, 52134 Herzogenrath\, NRW\, 52134\, Deutschland
END:VEVENT
BEGIN:VEVENT
DTSTART;TZID=Europe/Berlin:20250809T140000
DTEND;TZID=Europe/Berlin:20250809T160000
DTSTAMP:20260422T133935
CREATED:20250101T140456Z
LAST-MODIFIED:20250102T153117Z
UID:852-1754748000-1754755200@regenbogenchor-kohlscheid.de
SUMMARY:Hochzeit in St. Mariä Himmelfahrt
DESCRIPTION:Hochzeit in St. Mariä Himmelfahrt/ Herzogenrath\, Eygelshovener Str. mit Pfr. Rotheuth \n* Das Beste\, Silbermond\, Chorsatz (Wunsch der Braut)\, NEU \n* Clap your hands\, Don Besig\, bekannt \n* Praise his Holy Name\, Keith Hampton\, bekannt \n* This little light of mine\, Lorenz Maierhofer\, bekannt
URL:https://regenbogenchor-kohlscheid.de/termine/hochzeit-sandra-und-klaus-dahm-in-st-mariae-himmelfahrt/
LOCATION:St. Mariä Himmelfahrt\, Eygelshovener Str.\, Herzogenrath\, 52134\, Deutschland
END:VEVENT
BEGIN:VEVENT
DTSTART;VALUE=DATE:20250811
DTEND;VALUE=DATE:20250902
DTSTAMP:20260422T133935
CREATED:20250801T135417Z
LAST-MODIFIED:20250801T135417Z
UID:1023-1754870400-1756771199@regenbogenchor-kohlscheid.de
SUMMARY:Chorferien
DESCRIPTION:
URL:https://regenbogenchor-kohlscheid.de/termine/chorferien/
END:VEVENT
END:VCALENDAR